BEGIN:VCALENDAR
VERSION:2.0
PRODID:spatie/icalendar-generator
DESCRIPTION:Veranstaltungen von ILM e.V.
X-WR-CALDESC:Veranstaltungen von ILM e.V.
REFRESH-INTERVAL;VALUE=DURATION:PT1440M
X-PUBLISHED-TTL:PT1440M
BEGIN:VTIMEZONE
TZID:Europe/Berlin
BEGIN:DAYLIGHT
DTSTART:20250330T020000Z
TZOFFSETFROM:+0100
TZOFFSETTO:+0200
END:DAYLIGHT
BEGIN:STANDARD
DTSTART:20251026T030000Z
TZOFFSETFROM:+0200
TZOFFSETTO:+0100
END:STANDARD
BEGIN:DAYLIGHT
DTSTART:20260329T020000Z
TZOFFSETFROM:+0100
TZOFFSETTO:+0200
END:DAYLIGHT
END:VTIMEZONE
BEGIN:VTIMEZONE
TZID:UTC
BEGIN:STANDARD
DTSTART:20250725T124252Z
TZOFFSETFROM:+0000
TZOFFSETTO:+0000
END:STANDARD
END:VTIMEZONE
BEGIN:VEVENT
UID:284-173
DTSTAMP:20260421T124252Z
SUMMARY:Digitale Sprechstunde
LOCATION:AWO Begegnungs- und Servicezentrum Salzäcker Widmaierstr. 137  M
 öhringen  70567
ORGANIZER;CN=ILM:MAILTO:wpilmadm@ilm-ev.de
DTSTART;TZID=Europe/Berlin:20251130T140000
DTEND;TZID=Europe/Berlin:20251130T160000
X-ALT-DESC;FMTTYPE=TEXT/HTML:Alle 14 Tage Dienstag von 16 – 18 Uhr in der
  Begegnungsstätte Salzäcker Bitte anmelden unter 69 39 68 62
CATEGORIES:Digitale Sprechstunde
URL;VALUE=URI:https://ilm-ev.de/mc-events/digitale-sprechstunde-31/
METHOD:PUBLISH
END:VEVENT
END:VCALENDAR