BEGIN:VCALENDAR
VERSION:2.0
PRODID:spatie/icalendar-generator
DESCRIPTION:Veranstaltungen von ILM e.V.
X-WR-CALDESC:Veranstaltungen von ILM e.V.
REFRESH-INTERVAL;VALUE=DURATION:PT1440M
X-PUBLISHED-TTL:PT1440M
BEGIN:VTIMEZONE
TZID:Europe/Berlin
BEGIN:DAYLIGHT
DTSTART:20240331T020000Z
TZOFFSETFROM:+0100
TZOFFSETTO:+0200
END:DAYLIGHT
BEGIN:STANDARD
DTSTART:20241027T030000Z
TZOFFSETFROM:+0200
TZOFFSETTO:+0100
END:STANDARD
END:VTIMEZONE
BEGIN:VTIMEZONE
TZID:UTC
BEGIN:STANDARD
DTSTART:20250724T164328Z
TZOFFSETFROM:+0000
TZOFFSETTO:+0000
END:STANDARD
END:VTIMEZONE
BEGIN:VEVENT
UID:148-96
DTSTAMP:20260420T164328Z
SUMMARY:Defi-Informationsabend
LOCATION:Ev. Gemeindezentrum Fasanenhof Bonhoefferweg 2  Fasanenhof  70565
ORGANIZER;CN=Ruud Borsten:MAILTO:ruud@ruudb.eu
DTSTART;TZID=Europe/Berlin:20240911T190000
DTEND;TZID=Europe/Berlin:20240911T200000
X-ALT-DESC;FMTTYPE=TEXT/HTML:&amp;nbsp\; &amp;nbsp\;
CATEGORIES:AED-Schulung
URL;VALUE=URI:https://ilm-ev.de/mc-events/defi-informationsabend/
METHOD:PUBLISH
END:VEVENT
END:VCALENDAR